BEGIN:VCALENDAR
VERSION:2.0
PRODID:-//Prairie Sunset Trail - ECPv6.15.20//NONSGML v1.0//EN
CALSCALE:GREGORIAN
METHOD:PUBLISH
X-ORIGINAL-URL:https://prairiesunsettrail.org
X-WR-CALDESC:Events for Prairie Sunset Trail
REFRESH-INTERVAL;VALUE=DURATION:PT1H
X-Robots-Tag:noindex
X-PUBLISHED-TTL:PT1H
BEGIN:VTIMEZONE
TZID:America/Chicago
BEGIN:DAYLIGHT
TZOFFSETFROM:-0600
TZOFFSETTO:-0500
TZNAME:CDT
DTSTART:20230312T080000
END:DAYLIGHT
BEGIN:STANDARD
TZOFFSETFROM:-0500
TZOFFSETTO:-0600
TZNAME:CST
DTSTART:20231105T070000
END:STANDARD
BEGIN:DAYLIGHT
TZOFFSETFROM:-0600
TZOFFSETTO:-0500
TZNAME:CDT
DTSTART:20240310T080000
END:DAYLIGHT
BEGIN:STANDARD
TZOFFSETFROM:-0500
TZOFFSETTO:-0600
TZNAME:CST
DTSTART:20241103T070000
END:STANDARD
BEGIN:DAYLIGHT
TZOFFSETFROM:-0600
TZOFFSETTO:-0500
TZNAME:CDT
DTSTART:20250309T080000
END:DAYLIGHT
BEGIN:STANDARD
TZOFFSETFROM:-0500
TZOFFSETTO:-0600
TZNAME:CST
DTSTART:20251102T070000
END:STANDARD
END:VTIMEZONE
BEGIN:VEVENT
DTSTART;TZID=America/Chicago:20240814T190000
DTEND;TZID=America/Chicago:20240814T200000
DTSTAMP:20260422T172629
CREATED:20220331T055848Z
LAST-MODIFIED:20231228T171401Z
UID:1138-1723662000-1723665600@prairiesunsettrail.org
SUMMARY:Monthly Meeting
DESCRIPTION:Join us in person at Bike Walk Wichita at 325 N. St Francis or virtually via Zoom. Must email prairietravelers@yahoo.com for info to log on.
URL:https://prairiesunsettrail.org/event/monthly-meeting-78/
LOCATION:Bike Walk Wichita\, 325 N St Francis\, Wichita\, KS\, 67202\, United States
CATEGORIES:Planning Meeting
END:VEVENT
END:VCALENDAR